BEGIN:VCALENDAR
VERSION:2.0
PRODID:-//Support Uyghurs - ECPv6.2.2.1//NONSGML v1.0//EN
CALSCALE:GREGORIAN
METHOD:PUBLISH
X-WR-CALNAME:Support Uyghurs
X-ORIGINAL-URL:https://supportuyghurs.org
X-WR-CALDESC:Events for Support Uyghurs
REFRESH-INTERVAL;VALUE=DURATION:PT1H
X-Robots-Tag:noindex
X-PUBLISHED-TTL:PT1H
BEGIN:VTIMEZONE
TZID:Europe/London
BEGIN:DAYLIGHT
TZOFFSETFROM:+0000
TZOFFSETTO:+0100
TZNAME:BST
DTSTART:20230326T010000
END:DAYLIGHT
BEGIN:STANDARD
TZOFFSETFROM:+0100
TZOFFSETTO:+0000
TZNAME:GMT
DTSTART:20231029T010000
END:STANDARD
BEGIN:DAYLIGHT
TZOFFSETFROM:+0000
TZOFFSETTO:+0100
TZNAME:BST
DTSTART:20240331T010000
END:DAYLIGHT
BEGIN:STANDARD
TZOFFSETFROM:+0100
TZOFFSETTO:+0000
TZNAME:GMT
DTSTART:20241027T010000
END:STANDARD
BEGIN:DAYLIGHT
TZOFFSETFROM:+0000
TZOFFSETTO:+0100
TZNAME:BST
DTSTART:20250330T010000
END:DAYLIGHT
BEGIN:STANDARD
TZOFFSETFROM:+0100
TZOFFSETTO:+0000
TZNAME:GMT
DTSTART:20251026T010000
END:STANDARD
END:VTIMEZONE
BEGIN:VEVENT
DTSTART;TZID=Europe/London:20250205T140000
DTEND;TZID=Europe/London:20250205T160000
DTSTAMP:20260420T211552
CREATED:20250202T221559Z
LAST-MODIFIED:20260203T213629Z
UID:1495-1738764000-1738771200@supportuyghurs.org
SUMMARY:Commemorate 28th Ghulja Massacre - protest in the Hague
DESCRIPTION:The Ghulja massacre on February 5\, 1997 in East Turkestan\, resulted from Uyghur discontent\, expressed through peaceful demonstrations against religious repression\, economic disparities\, and discrimination… But hundreds of peaceful Uyghur protesters were killed\, and thousands were arrested\, and disappeared by the Chinese Communist Party regime… For more information\, please read this article. \n\n\n\nWe Uyghurs never forget the Ghulja Massacre! On February 5\, 2025\, we Uyghurs in the Netherlands held a protest to commemorate the 28th anniversary of the Ghulja Massacre in the Hague. \n\n\n\nCome\, support us\, and join us!
URL:https://supportuyghurs.org/event/commemorate-28th-ghulja-massacre-protest-in-the-hague/
LOCATION:Den Haag\, Rijnstraat 8\, Rijnstraat 8\, Den Haag\, 2515XP\, Netherlands
CATEGORIES:Protest
ATTACH;FMTTYPE=image/jpeg:https://supportuyghurs.org/wp-content/uploads/2025/02/Ghulja-2025-2-e1738534512885.jpg
END:VEVENT
BEGIN:VEVENT
DTSTART;TZID=Europe/London:20250123T140000
DTEND;TZID=Europe/London:20250123T180000
DTSTAMP:20260420T211552
CREATED:20250122T205010Z
LAST-MODIFIED:20250122T205748Z
UID:1485-1737640800-1737655200@supportuyghurs.org
SUMMARY:The CCP is not welcome in Netherland!
DESCRIPTION:The Vice Premier of China\, Ding Xuexiang\, is coming to the Netherlands! The CCP is not welcome in the Netherlands! Stand together to oppose aggression and promote freedom! \n\n\n\nChina\, stop the Uyghur GENOCIDE! It’s been almost 10 years\, how can this be allowed? It goes against humanity\, human rights\, and democracy…! \n\n\n\nCome\, support us\, and join us!
URL:https://supportuyghurs.org/event/the-ccp-is-not-welcome-in-netherland/
LOCATION:Den Haag\, Churchillplein 10\, Den Haag\, 2517 KK\, Netherlands
CATEGORIES:Protest
ATTACH;FMTTYPE=image/png:https://supportuyghurs.org/wp-content/uploads/2025/01/Protest-against-Ding-Xuexiang-in-Nederland-e1737578751903.png
END:VEVENT
BEGIN:VEVENT
DTSTART;TZID=Europe/London:20240929T120000
DTEND;TZID=Europe/London:20240929T150000
DTSTAMP:20260420T211552
CREATED:20240927T210844Z
LAST-MODIFIED:20240927T220118Z
UID:1461-1727611200-1727622000@supportuyghurs.org
SUMMARY:Protest event against the 75th anniversary of China's National Day in Amsterdam
DESCRIPTION:75th Anniversary of the Chinese Communist Party’s Usurpation of Power: National Mourning Day Event Plan \n\n\n\nThis year marks the 75th anniversary of the Chinese Communist Party’s (CCP) usurpation of power in China in 1949. To commemorate this tragic event\, reveal historical truths\, and awaken the public’s desire for freedom and democracy\, an activity are planned to mourn this National Mourning Day and emphasize the importance of pursuing freedom\, justice\, and human rights. \n\n\n\nEvent Agenda: \n\n\n\nCommemoration Ceremony (Silent Mourning Ceremony): All participants held a minute of silence at the same time to mourn tens of millions of people who had died in the political persecution since 1949. \n\n\n\nHistorical Review and Speeches: Testimonies from political dissidents from mainland China\, Tibetans\, Uyghurs\, survivors of the 1989 Tiananmen Square massacre\, and participants in the Hong Kong pro-democracy movement\, sharing their personal experiences. \n\n\n\nReading out “75 Years of National Tragedy: China under Dictatorship” (Summary). This document details the CCP’s violations of human rights\, freedom\, and the rule of law since usurping the power. \n\n\n\nA press release will be sent to the media after the event. It is hoped that old and new pro-democracy and human rights activists in the Netherlands will participate actively\, and that the new generation of pro-democracy and human rights activists abroad will overcome their fears and have the courage to stand in the anti-communist queue. \n\n\n\n\n\n\n\nNever Forget the National Tragedy & Pursue Freedom! \n\n\n\nCome\, support\, and join us! \n\n\n\n\n\n\n\n\n\n\n\n\n\n\n\n\n\n\n\n  Co-organizers: \n\n\n\n\nSupport Uyghurs Foundation\n\n\n\nChinese Democracy Party Overseas Committee\n\n\n\nUK Branch of the Chinese Democracy Party\n\n\n\nFederation for a Democratic China\n\n\n\nChina Human Rights Accountability Database\n\n\n\nAntiCCP.NL\n\n\n\nSino Euro Voices\n\n\n\nChina Spring\n\n\n\nTibetan Community Netherlands
URL:https://supportuyghurs.org/event/protest-event-against-75th-aniversary-of-chinas-national-day-in-amsterdam/
LOCATION:Dam Square\, Amsterdam\, Dam\, Amsterdam\, Noord-Holland\, 1012\, Netherlands
CATEGORIES:Protest
ATTACH;FMTTYPE=image/jpeg:https://supportuyghurs.org/wp-content/uploads/2024/09/75th-Anniversary-of-the-Chinese-Communist-Partys-Usurpation-of-Power-1-e1727471247706.jpg
END:VEVENT
BEGIN:VEVENT
DTSTART;TZID=Europe/London:20240706T150000
DTEND;TZID=Europe/London:20240706T170000
DTSTAMP:20260420T211552
CREATED:20240704T225032Z
LAST-MODIFIED:20240704T225335Z
UID:1449-1720278000-1720285200@supportuyghurs.org
SUMMARY:Commemorate 15th Urumchi Massacre - protest at Dam Square
DESCRIPTION:CCP is the worst violator of human rights. 15 years ago was a nightmare for the Uyghurs in Shaoguan. CCP forcibly removed them from their homes to work in a toy factory\, where Chinese workers brutally killed them. \n\n\n\nWhen university students had a peaceful protest to ask the Chinese government to handle the Shaoguan massacre as China’s law on July 5 th again Protesters were brutally killed\, jailed and tortured. \n\n\n\nNever forgive\, never forget! Urumchi Massacre \n\n\n\nCome\, support\, and join us!
URL:https://supportuyghurs.org/event/commemorate-15th-urumchi-massacre-protest-at-dam-square/
LOCATION:Dam Square\, Amsterdam\, Dam\, Amsterdam\, Noord-Holland\, 1012\, Netherlands
CATEGORIES:Protest
ATTACH;FMTTYPE=image/jpeg:https://supportuyghurs.org/wp-content/uploads/2024/07/WhatsApp-kep-2024-07-04-00.49.42_35a11f87-scaled-e1720129981584.jpg
END:VEVENT
BEGIN:VEVENT
DTSTART;TZID=Europe/London:20240204T140000
DTEND;TZID=Europe/London:20240204T160000
DTSTAMP:20260420T211552
CREATED:20240126T211128Z
LAST-MODIFIED:20240130T202717Z
UID:1388-1707055200-1707062400@supportuyghurs.org
SUMMARY:Commemorate 27th Ghulja Massacre - protest at Dam Square
DESCRIPTION:The Ghulja massacre on February 5\, 1997 in East Turkestan\, resulted from Uyghur discontent\, expressed through peaceful demonstrations against religious repression\, economic disparities\, and discrimination… But hundreds of peaceful Uyghur protesters were killed\, and thousands were arrested\, and disappeared by the Chinese Communist Party regime… For more information\, please read this article. \n\n\n\nWe Uyghurs never forget the Ghulja Massacre! On February 4\, 2024\, we Uyghurs in the Netherlands held a protest to commemorate the 27th anniversary of the Ghulja Massacre at Dam Square in Amsterdam. \n\n\n\nCome\, support\, and join us!
URL:https://supportuyghurs.org/event/commemorate-27th-ghulja-massacre-2024/
LOCATION:Dam Square\, Amsterdam\, Dam\, Amsterdam\, Noord-Holland\, 1012\, Netherlands
CATEGORIES:Protest
ATTACH;FMTTYPE=image/jpeg:https://supportuyghurs.org/wp-content/uploads/2024/01/Ghulja-massacre-Amsterdam-2024.jpg
END:VEVENT
BEGIN:VEVENT
DTSTART;TZID=Europe/London:20231210T120000
DTEND;TZID=Europe/London:20231210T140000
DTSTAMP:20260420T211552
CREATED:20231208T141936Z
LAST-MODIFIED:20231208T200206Z
UID:1282-1702209600-1702216800@supportuyghurs.org
SUMMARY:on International Human Rights Day protest agaist China
DESCRIPTION:International Human Rights Day\, observed on december 10th\, commemorates the 1948 adoption of the Universal Declaration of Human Rights\, emphasizing the global commitment to fundamental rights and freedoms for all individuals\, fostering awareness\, advocacy\, and reflection on progress and challenges in the realm of human rights worldwide. \n\n\n\nWe organized a demonstration to advocate for the protection of the human rights of Uyghurs\, Tibetans\, Hong Kong\, and other minorities in China\, aiming to bring attention\, and expose human rights violations of CCP… \n\n\n\nCome\, support and join us!
URL:https://supportuyghurs.org/event/international-human-rights-day-protest-agaist-china/
LOCATION:Dam Square\, Amsterdam\, Dam\, Amsterdam\, Noord-Holland\, 1012\, Netherlands
CATEGORIES:Protest
ATTACH;FMTTYPE=image/jpeg:https://supportuyghurs.org/wp-content/uploads/2023/12/2023.12.10-IHRD-e1702045112149.jpeg
END:VEVENT
BEGIN:VEVENT
DTSTART;TZID=Europe/London:20231112T103000
DTEND;TZID=Europe/London:20231112T120000
DTSTAMP:20260420T211552
CREATED:20231106T112518Z
LAST-MODIFIED:20231106T120820Z
UID:1171-1699785000-1699790400@supportuyghurs.org
SUMMARY:COMMEMORATE EAST TURKESTAN INDEPENDENCE DAY AT DAMSQUARE
DESCRIPTION:On 12 november declared independence the First East Turkestan Republic (1933-1934) and the Second East Turkestan Republic (1944-1949). We go to commemorate this independence days of East Turkestan at Dam Square Amsterdam. Please join us and commemorate together!
URL:https://supportuyghurs.org/event/commemorate-east-turkestan-independence-day-2023/
LOCATION:Dam Square\, Amsterdam\, Dam\, Amsterdam\, Noord-Holland\, 1012\, Netherlands
CATEGORIES:Protest
ATTACH;FMTTYPE=image/jpeg:https://supportuyghurs.org/wp-content/uploads/2023/11/ET-protest-2023-ENUY.jpg
END:VEVENT
BEGIN:VEVENT
DTSTART;TZID=Europe/London:20231001T130000
DTEND;TZID=Europe/London:20231001T160000
DTSTAMP:20260420T211552
CREATED:20231003T133220Z
LAST-MODIFIED:20231106T105341Z
UID:1139-1696165200-1696176000@supportuyghurs.org
SUMMARY:Protest at Dam Square
DESCRIPTION:
URL:https://supportuyghurs.org/event/protest-at-dam-square/
LOCATION:Noord-Holland
CATEGORIES:Protest
ATTACH;FMTTYPE=image/jpeg:https://supportuyghurs.org/wp-content/uploads/2023/10/F7VnyT4WsAA87bj.jpeg
END:VEVENT
END:VCALENDAR