BEGIN:VCALENDAR
VERSION:2.0
PRODID:-//Support Uyghurs - ECPv6.2.2.1//NONSGML v1.0//EN
CALSCALE:GREGORIAN
METHOD:PUBLISH
X-WR-CALNAME:Support Uyghurs
X-ORIGINAL-URL:https://supportuyghurs.org
X-WR-CALDESC:Events for Support Uyghurs
REFRESH-INTERVAL;VALUE=DURATION:PT1H
X-Robots-Tag:noindex
X-PUBLISHED-TTL:PT1H
BEGIN:VTIMEZONE
TZID:Europe/London
BEGIN:DAYLIGHT
TZOFFSETFROM:+0000
TZOFFSETTO:+0100
TZNAME:BST
DTSTART:20250330T010000
END:DAYLIGHT
BEGIN:STANDARD
TZOFFSETFROM:+0100
TZOFFSETTO:+0000
TZNAME:GMT
DTSTART:20251026T010000
END:STANDARD
BEGIN:DAYLIGHT
TZOFFSETFROM:+0000
TZOFFSETTO:+0100
TZNAME:BST
DTSTART:20260329T010000
END:DAYLIGHT
BEGIN:STANDARD
TZOFFSETFROM:+0100
TZOFFSETTO:+0000
TZNAME:GMT
DTSTART:20261025T010000
END:STANDARD
END:VTIMEZONE
BEGIN:VEVENT
DTSTART;TZID=Europe/London:20250405T130000
DTEND;TZID=Europe/London:20250405T150000
DTSTAMP:20260420T210429
CREATED:20250329T131639Z
LAST-MODIFIED:20250329T133103Z
UID:1505-1743858000-1743865200@supportuyghurs.org
SUMMARY:Commemorate the 35th Anniversary of Barin revolution: protest for Justice and Resistance
DESCRIPTION:On this day in 1990\, a historic uprising ignited in Barin as the  East Turkestani people rose against China’s genocidal colonial policies. Though brutally suppressed\, it re-sparked a resistance that continues to this day. \n\n\n\nBring your flags\, signs\, and your voice! \n\n\n\nCome\, support\, and join us!
URL:https://supportuyghurs.org/event/commemorate-the-35th-anniversary-of-barin-revolution-protest-for-justice-and-resistance/
LOCATION:Dam Square\, Amsterdam\, Dam\, Amsterdam\, Noord-Holland\, 1012\, Netherlands
CATEGORIES:Protest
ATTACH;FMTTYPE=image/jpeg:https://supportuyghurs.org/wp-content/uploads/2025/03/Barin-revulotion-2025-EN-e1743254304193.jpg
END:VEVENT
BEGIN:VEVENT
DTSTART;TZID=Europe/London:20250705T150000
DTEND;TZID=Europe/London:20250705T170000
DTSTAMP:20260420T210429
CREATED:20250703T215343Z
LAST-MODIFIED:20250703T220150Z
UID:1524-1751727600-1751734800@supportuyghurs.org
SUMMARY:Commemorate 16th Urumchi Massacre - protest at Amsterdam Centraal
DESCRIPTION:We Uyghurs will never forget July 5th 2009: Urumchi Massacre.  \n\n\n\nOn this solemn anniversary of the Urumchi Massacre\, we gather to remember the thousands of Uyghurs who were arrested\, disappeared\, or killed during and after the July 5th\, 2009 protests in Urumchi. \n\n\n\nWe Uyghurs will never stop fighting for justice\, freedom\, and restoration of East Turkestan independence . \n\n\n\nStand with us as we raise our voices for the victims and demand truth and international action.
URL:https://supportuyghurs.org/event/commemorate-16th-urumchi-massacre-protest/
LOCATION:Amsterdam Centraal Station\, Stationsplein 15\, Amsterdam\, 1012AB Amsterdam\, Netherlands
CATEGORIES:Protest
ATTACH;FMTTYPE=image/jpeg:https://supportuyghurs.org/wp-content/uploads/2025/07/Urumchi-massacre-2025-EN-e1751579769877.jpg
END:VEVENT
BEGIN:VEVENT
DTSTART;TZID=Europe/London:20250928T140000
DTEND;TZID=Europe/London:20250928T170000
DTSTAMP:20260420T210429
CREATED:20250927T100137Z
LAST-MODIFIED:20250927T102203Z
UID:1535-1759068000-1759078800@supportuyghurs.org
SUMMARY:Together we resist Chinese Communist Party - protest in Amsterdam
DESCRIPTION:PROMOTE A NATIONWIDE RESISTANCE MOVEMENT \n\n\n\nNO CELEBRATION UNDER OPPRESSION \n\n\n\nJoin people from diverse communities and faiths in a united stand for freedom\, human rights\, and justice.  \n\n\n\nWe gather to raise our voices against colonozation\, genocide and to stand in solidarity with all who suffer under the Chinese Communist Party’s oppressive regime.  \n\n\n\nJoin Us in Amsterdam to Stand United Against #China Tyranny! #ResistCCP #NoChinaNationalDay  \n\n\n\n#China_Action #NoMoreChina  #NoMoreCcp \n\n\n\n\n\n \n\n\n\n\n\n\n\n\n\n\n\n\n\n\n\n\n\nCo-organized by:Citizen Resistance | China Action | Tibet Support Group NL | Voice of Anti-CCP – NL
URL:https://supportuyghurs.org/event/together-we-resist-chinese-communist-party-protest-in-amsterdam/
LOCATION:Dam Square\, Amsterdam\, Dam\, Amsterdam\, Noord-Holland\, 1012\, Netherlands
ATTACH;FMTTYPE=image/jpeg:https://supportuyghurs.org/wp-content/uploads/2025/09/WhatsApp-Image-2025-09-26-at-14.36.17.jpeg
END:VEVENT
BEGIN:VEVENT
DTSTART;TZID=Europe/London:20251123T180000
DTEND;TZID=Europe/London:20251123T190000
DTSTAMP:20260420T210429
CREATED:20251122T154409Z
LAST-MODIFIED:20251122T154827Z
UID:1549-1763920800-1763924400@supportuyghurs.org
SUMMARY:3rd Anniversary Commemoration of the Victims of the Urumchi Fire
DESCRIPTION:This Sunday marks the 3rd anniversary of the Urumchi Fire. China’s draconian COVID-19 lockdown measures resulted in the deaths of nearly 50 people on 24 November 2022. We will demonstrate against this injustice. \n\n\n\nJoin us\, stand in solidarity\, and make your voice heard!
URL:https://supportuyghurs.org/event/3rd-anniversary-commemoration-of-the-victims-of-the-urumchi-fire/
LOCATION:Dam Square\, Amsterdam\, Dam\, Amsterdam\, Noord-Holland\, 1012\, Netherlands
CATEGORIES:Protest
ATTACH;FMTTYPE=image/jpeg:https://supportuyghurs.org/wp-content/uploads/2025/11/3rd-year-of-Urumchi-fire-e1763826294287.jpg
END:VEVENT
BEGIN:VEVENT
DTSTART;TZID=Europe/London:20251210T140000
DTEND;TZID=Europe/London:20251210T163000
DTSTAMP:20260420T210429
CREATED:20251209T211636Z
LAST-MODIFIED:20251209T212626Z
UID:1558-1765375200-1765384200@supportuyghurs.org
SUMMARY:Protest to Mark International Human Rights Day
DESCRIPTION:Together with several concern groups including International Campaign for Tibet Europe\, Tibet Support Groep Nederland\, the Tibetan Community\, and Stichting Support Uyghurs\, and we will be hosting a vigil at Dam Square\, Amsterdam on the International Human Rights Day (10th Dec) to bring attention to the numerous human rights violations conducted by the Chinese Communist Party in regions like #Tibet\, #EastTurkestan\, #HongKong\, #Cantonia\, #Kwangxi #SouthernMongolia. #HumanRightsDay #HumanRightsDay2025 #MensenRechtsdag #MensenRechtsDag2025
URL:https://supportuyghurs.org/event/protest-to-mark-international-human-rights-day/
LOCATION:Dam Square\, Amsterdam\, Dam\, Amsterdam\, Noord-Holland\, 1012\, Netherlands
CATEGORIES:Protest
ATTACH;FMTTYPE=image/jpeg:https://supportuyghurs.org/wp-content/uploads/2025/12/human-rights-day-2-e1765315580725.jpg
END:VEVENT
BEGIN:VEVENT
DTSTART;TZID=Europe/London:20260205T140000
DTEND;TZID=Europe/London:20260205T153000
DTSTAMP:20260420T210429
CREATED:20260203T214434Z
LAST-MODIFIED:20260203T215211Z
UID:1584-1770300000-1770305400@supportuyghurs.org
SUMMARY:Commemorate 29th Ghulja Massacre - protest at Dam Square
DESCRIPTION:The Ghulja massacre on February 5\, 1997 in East Turkestan\, resulted from Uyghur discontent\, expressed through peaceful demonstrations against religious repression\, economic disparities\, and discrimination… But hundreds of peaceful Uyghur protesters were killed\, and thousands were arrested\, and disappeared by the Chinese Communist Party regime… For more information\, please read this article. \n\n\n\nWe Uyghurs never forget the Ghulja Massacre! On February 5\, 2026\, we Uyghurs in the Netherlands held a protest to commemorate the 29th anniversary of the Ghulja Massacre at Dam Square in Amsterdam. \n\n\n\nCome\, support\, and join us!
URL:https://supportuyghurs.org/event/commemorate-27th-ghulja-massacre-protest-at-dam-square/
LOCATION:Dam Square\, Amsterdam\, Dam\, Amsterdam\, Noord-Holland\, 1012\, Netherlands
CATEGORIES:Protest
ATTACH;FMTTYPE=image/jpeg:https://supportuyghurs.org/wp-content/uploads/2026/02/Protest-for-Ghulja-massacre-29th-Amsterdam-EN-e1770155189678.jpeg
END:VEVENT
END:VCALENDAR